BEGIN:VCALENDAR
VERSION:2.0
BEGIN:VEVENT
URL:https://tickets.oztix.com.au/outlet/event/181e041c-dfb0-4c75-b97d-bbff9ceed762
DTSTART:20260523T020000Z
DTEND:20260523T020000Z
SUMMARY:TILT SERIES 2 with Ixaras, Frank & Louis and Myles (ALL AGES)
DESCRIPTION:Event details: https://tickets.oztix.com.au/outlet/event/181e041c-dfb0-4c75-b97d-bbff9ceed762
LOCATION:Mo's Desert Clubhouse (Burleigh Heads, QLD)
END:VEVENT
END:VCALENDAR