BEGIN:VCALENDAR
VERSION:2.0
BEGIN:VEVENT
URL:https://tickets.oztix.com.au/outlet/event/1730d75d-0cc8-4f0e-9807-902c636c00a9
DTSTART:20260828T080000Z
DTEND:20260828T080000Z
SUMMARY:CDB - 90s Child Tour 2026
DESCRIPTION:Event details: https://tickets.oztix.com.au/outlet/event/1730d75d-0cc8-4f0e-9807-902c636c00a9
LOCATION:Miami Marketta, Gold Coast (Miami, QLD)
END:VEVENT
END:VCALENDAR