BEGIN:VCALENDAR
VERSION:2.0
BEGIN:VEVENT
URL:https://tickets.oztix.com.au/outlet/event/1639523c-20c2-4290-aaa9-042b8e995777
DTSTART:20260620T090000Z
DTEND:20260620T090000Z
SUMMARY:Fleetwood Mac & Stevie Nicks Tribute — Starshine
DESCRIPTION:Event details: https://tickets.oztix.com.au/outlet/event/1639523c-20c2-4290-aaa9-042b8e995777
LOCATION:The Powerhouse, Toowoomba (Toowoomba , QLD)
END:VEVENT
END:VCALENDAR