BEGIN:VCALENDAR
VERSION:2.0
BEGIN:VEVENT
URL:https://tickets.oztix.com.au/outlet/event/1597ce0f-1e5c-4d1f-b1f9-ee767a7dddcb
DTSTART:20260523T100000Z
DTEND:20260523T100000Z
SUMMARY:Tramfest 5
DESCRIPTION:Event details: https://tickets.oztix.com.au/outlet/event/1597ce0f-1e5c-4d1f-b1f9-ee767a7dddcb
LOCATION:The Evelyn Hotel (Fitzroy, VIC)
END:VEVENT
END:VCALENDAR