BEGIN:VCALENDAR
VERSION:2.0
BEGIN:VEVENT
URL:https://tickets.oztix.com.au/outlet/event/156008a5-ad59-40ef-9c9f-bc1a9ca05dee
DTSTART:20260502T040000Z
DTEND:20260502T040000Z
SUMMARY:RSOM Live Showcase - May 2nd
DESCRIPTION:Event details: https://tickets.oztix.com.au/outlet/event/156008a5-ad59-40ef-9c9f-bc1a9ca05dee
LOCATION:Bergy Bandroom (Brunswick, VIC)
END:VEVENT
END:VCALENDAR