BEGIN:VCALENDAR
VERSION:2.0
BEGIN:VEVENT
URL:https://tickets.oztix.com.au/outlet/event/153cd576-2f70-4e7e-8823-5115376510c2
DTSTART:20260509T100000Z
DTEND:20260509T100000Z
SUMMARY:A Tribute to Pearl Jam and Powderfinger
DESCRIPTION:Event details: https://tickets.oztix.com.au/outlet/event/153cd576-2f70-4e7e-8823-5115376510c2
LOCATION:Kahibah Sports Club ( Kahibah, NSW)
END:VEVENT
END:VCALENDAR