BEGIN:VCALENDAR
VERSION:2.0
BEGIN:VEVENT
URL:https://tickets.oztix.com.au/outlet/event/152cb4a6-29f3-48b4-a511-48f5b687da3a
DTSTART:20260714T093000Z
DTEND:20260714T093000Z
SUMMARY:Blake Pavey: A Bit Scared
DESCRIPTION:Event details: https://tickets.oztix.com.au/outlet/event/152cb4a6-29f3-48b4-a511-48f5b687da3a
LOCATION:Moonshiners Honky Tonk Bar (Tamworth, NSW)
END:VEVENT
END:VCALENDAR