BEGIN:VCALENDAR
VERSION:2.0
BEGIN:VEVENT
URL:https://tickets.oztix.com.au/outlet/event/10ff8ac8-d324-4419-84b6-1f409051164f
DTSTART:20260702T090000Z
DTEND:20260702T090000Z
SUMMARY:LUCA BRASI - ITIAWGTB 10 YEAR ANNIVERSARY TOUR 2026
DESCRIPTION:Event details: https://tickets.oztix.com.au/outlet/event/10ff8ac8-d324-4419-84b6-1f409051164f
LOCATION:The Union Jack (Cairns, QLD)
END:VEVENT
END:VCALENDAR