BEGIN:VCALENDAR
VERSION:2.0
BEGIN:VEVENT
URL:https://tickets.oztix.com.au/outlet/event/109f7650-a04e-476a-aef0-a27ad32ff984
DTSTART:20260612T100000Z
DTEND:20260612T100000Z
SUMMARY:LUCA BRASI - ITIAWGTB 10 YEAR ANNIVERSARY TOUR 2026
DESCRIPTION:Event details: https://tickets.oztix.com.au/outlet/event/109f7650-a04e-476a-aef0-a27ad32ff984
LOCATION:Du Cane Brewery (Launceston, TAS)
END:VEVENT
END:VCALENDAR