BEGIN:VCALENDAR
VERSION:2.0
BEGIN:VEVENT
URL:https://tickets.oztix.com.au/outlet/event/1081b519-420e-4e24-9f1c-63c1b839714a
DTSTART:20260926T080000Z
DTEND:20260926T080000Z
SUMMARY:Magic Men Gold Coast - Surfers Paradise
DESCRIPTION:Event details: https://tickets.oztix.com.au/outlet/event/1081b519-420e-4e24-9f1c-63c1b839714a
LOCATION:Platinum Nightclub (Surfers Paradise, QLD)
END:VEVENT
END:VCALENDAR