BEGIN:VCALENDAR
VERSION:2.0
BEGIN:VEVENT
URL:https://tickets.oztix.com.au/outlet/event/0fff155f-9bf9-4bee-8793-e8367b4c2871
DTSTART:20260704T083000Z
DTEND:20260704T083000Z
SUMMARY:CJ Commerford & The Supertones and The Dan Duggan Band
DESCRIPTION:Event details: https://tickets.oztix.com.au/outlet/event/0fff155f-9bf9-4bee-8793-e8367b4c2871
LOCATION:Hepburn Palais (Hepburn Springs, VIC)
END:VEVENT
END:VCALENDAR