BEGIN:VCALENDAR
VERSION:2.0
BEGIN:VEVENT
URL:https://tickets.oztix.com.au/outlet/event/0ed6087d-ff32-4f85-865a-95903fd74d69
DTSTART:20261017T080000Z
DTEND:20261017T080000Z
SUMMARY:Magic Men Brisbane
DESCRIPTION:Event details: https://tickets.oztix.com.au/outlet/event/0ed6087d-ff32-4f85-865a-95903fd74d69
LOCATION:Wonderland (Fortitude Valley, QLD)
END:VEVENT
END:VCALENDAR