BEGIN:VCALENDAR
VERSION:2.0
BEGIN:VEVENT
URL:https://tickets.oztix.com.au/outlet/event/0e5bc4b8-0f28-4bcc-a53e-affcdf387e98
DTSTART:20260515T093000Z
DTEND:20260515T093000Z
SUMMARY:LOCKJAW 'A Reason To Endure' EP Launch - w/ Lay Low, Knifepoint, Rile, and No Truce.
DESCRIPTION:Event details: https://tickets.oztix.com.au/outlet/event/0e5bc4b8-0f28-4bcc-a53e-affcdf387e98
LOCATION:The Tote - Upstairs (Collingwood, VIC)
END:VEVENT
END:VCALENDAR