BEGIN:VCALENDAR
VERSION:2.0
BEGIN:VEVENT
URL:https://tickets.oztix.com.au/outlet/event/0e17f05d-1bcb-4a3c-976b-f48004841975
DTSTART:20260508T100000Z
DTEND:20260508T100000Z
SUMMARY:THE BON JOVI LEGACY
DESCRIPTION:Event details: https://tickets.oztix.com.au/outlet/event/0e17f05d-1bcb-4a3c-976b-f48004841975
LOCATION:Harmonie German Club (Narrabundah, ACT)
END:VEVENT
END:VCALENDAR