BEGIN:VCALENDAR
VERSION:2.0
BEGIN:VEVENT
URL:https://tickets.oztix.com.au/outlet/event/0dba28f9-a6df-4197-9ecb-b4f77296402b
DTSTART:20260821T090000Z
DTEND:20260821T090000Z
SUMMARY:Montaigne - Glorious Heights 10th Anniversary Tour
DESCRIPTION:Event details: https://tickets.oztix.com.au/outlet/event/0dba28f9-a6df-4197-9ecb-b4f77296402b
LOCATION:Crowbar Brisbane (Fortitude Valley, QLD)
END:VEVENT
END:VCALENDAR