BEGIN:VCALENDAR
VERSION:2.0
BEGIN:VEVENT
URL:https://tickets.oztix.com.au/outlet/event/0d45083f-e59c-4f82-855f-1f04b1d88757
DTSTART:20260905T090000Z
DTEND:20260905T090000Z
SUMMARY:Sienna Skies "Australian Spring Tour"
DESCRIPTION:Event details: https://tickets.oztix.com.au/outlet/event/0d45083f-e59c-4f82-855f-1f04b1d88757
LOCATION:Tomcat (Fortitude Valley, QLD)
END:VEVENT
END:VCALENDAR