BEGIN:VCALENDAR
VERSION:2.0
BEGIN:VEVENT
URL:https://tickets.oztix.com.au/outlet/event/0b9b229d-5bd5-404f-b384-c20f8bfebccb
DTSTART:20260428T090000Z
DTEND:20260428T090000Z
SUMMARY:Emma Louise, Intimately
DESCRIPTION:Event details: https://tickets.oztix.com.au/outlet/event/0b9b229d-5bd5-404f-b384-c20f8bfebccb
LOCATION:Low 302 (Surry Hills, NSW)
END:VEVENT
END:VCALENDAR