BEGIN:VCALENDAR
VERSION:2.0
BEGIN:VEVENT
URL:https://tickets.oztix.com.au/outlet/event/0af8ddde-39b6-4034-ad70-5f61ce1bdcf3
DTSTART:20261004T060000Z
DTEND:20261004T060000Z
SUMMARY:GILSONS Australia Tour 2026
DESCRIPTION:Event details: https://tickets.oztix.com.au/outlet/event/0af8ddde-39b6-4034-ad70-5f61ce1bdcf3
LOCATION:Miami Marketta, Gold Coast (Miami, QLD)
END:VEVENT
END:VCALENDAR