BEGIN:VCALENDAR
VERSION:2.0
BEGIN:VEVENT
URL:https://tickets.oztix.com.au/outlet/event/0a9076fb-4176-41bc-a717-8b218e85c99b
DTSTART:20260426T080000Z
DTEND:20260426T080000Z
SUMMARY:WESTEND EXPORT @ THE BIRD
DESCRIPTION:Event details: https://tickets.oztix.com.au/outlet/event/0a9076fb-4176-41bc-a717-8b218e85c99b
LOCATION:The Bird (Northbridge, Perth, WA)
END:VEVENT
END:VCALENDAR