BEGIN:VCALENDAR
VERSION:2.0
BEGIN:VEVENT
URL:https://tickets.oztix.com.au/outlet/event/0a3cbb01-0773-4983-928a-dbcb9d68d4d0
DTSTART:20260522T100000Z
DTEND:20260522T100000Z
SUMMARY:NATHAN CAVALERI – STRIPPED DOWN AMPED UP
DESCRIPTION:Event details: https://tickets.oztix.com.au/outlet/event/0a3cbb01-0773-4983-928a-dbcb9d68d4d0
LOCATION:The Wheatsheaf Hotel (Thebarton, SA)
END:VEVENT
END:VCALENDAR