BEGIN:VCALENDAR
VERSION:2.0
BEGIN:VEVENT
URL:https://tickets.oztix.com.au/outlet/event/0a0a4b24-6266-4282-b7a0-82a578fce0af
DTSTART:20260523T230000Z
DTEND:20260523T230000Z
SUMMARY:Sustainable BNE Festival
DESCRIPTION:Event details: https://tickets.oztix.com.au/outlet/event/0a0a4b24-6266-4282-b7a0-82a578fce0af
LOCATION:Roma Street Parkland (Brisbane, QLD)
END:VEVENT
END:VCALENDAR