BEGIN:VCALENDAR
VERSION:2.0
BEGIN:VEVENT
URL:https://tickets.oztix.com.au/outlet/event/09496428-89af-4db0-9f85-65b2e8d6f114
DTSTART:20260428T083000Z
DTEND:20260428T083000Z
SUMMARY:ERIC BIBB and BAND - ONE MISSISSIPPI WORLD TOUR 2026
DESCRIPTION:Event details: https://tickets.oztix.com.au/outlet/event/09496428-89af-4db0-9f85-65b2e8d6f114
LOCATION:The Gov - The Venue (Hindmarsh, SA)
END:VEVENT
END:VCALENDAR