BEGIN:VCALENDAR
VERSION:2.0
BEGIN:VEVENT
URL:https://tickets.oztix.com.au/outlet/event/09260106-0ebe-4bc2-9255-7ab6b45af2a5
DTSTART:20260531T010000Z
DTEND:20260531T010000Z
SUMMARY:Ashton's - The Great Australian Circus
DESCRIPTION:Event details: https://tickets.oztix.com.au/outlet/event/09260106-0ebe-4bc2-9255-7ab6b45af2a5
LOCATION:Stanthorpe Showgrounds (Stanthorpe, QLD)
END:VEVENT
END:VCALENDAR