BEGIN:VCALENDAR
VERSION:2.0
BEGIN:VEVENT
URL:https://tickets.oztix.com.au/outlet/event/086e8606-2557-4698-81e7-1e08dc86e1b4
DTSTART:20260503T090000Z
DTEND:20260503T090000Z
SUMMARY:Thornback (Single Launch) w/ Figjam + Punchbowl
DESCRIPTION:Event details: https://tickets.oztix.com.au/outlet/event/086e8606-2557-4698-81e7-1e08dc86e1b4
LOCATION:Bar Open (Fitzroy, VIC)
END:VEVENT
END:VCALENDAR