BEGIN:VCALENDAR
VERSION:2.0
BEGIN:VEVENT
URL:https://tickets.oztix.com.au/outlet/event/0802bd36-2e6d-4106-804c-53462ae6d01a
DTSTART:20260424T100000Z
DTEND:20260424T100000Z
SUMMARY:Heavy Amber - 'Crystal Columns' 7" Vinyl Launch
DESCRIPTION:Event details: https://tickets.oztix.com.au/outlet/event/0802bd36-2e6d-4106-804c-53462ae6d01a
LOCATION:Cactus Room (Thornbury, VIC)
END:VEVENT
END:VCALENDAR