BEGIN:VCALENDAR
VERSION:2.0
BEGIN:VEVENT
URL:https://tickets.oztix.com.au/outlet/event/06fdfe3d-e65f-446e-bd11-55578b7a2067
DTSTART:20260606T093000Z
DTEND:20260606T093000Z
SUMMARY:ZIPPER - 'Hiko' & 'Ear' Dual Single Launch
DESCRIPTION:Event details: https://tickets.oztix.com.au/outlet/event/06fdfe3d-e65f-446e-bd11-55578b7a2067
LOCATION:Bergy Bandroom (Brunswick, VIC)
END:VEVENT
END:VCALENDAR