BEGIN:VCALENDAR
VERSION:2.0
BEGIN:VEVENT
URL:https://tickets.oztix.com.au/outlet/event/06877de3-545d-4d36-b08a-a5e677e2e742
DTSTART:20260523T110000Z
DTEND:20260523T110000Z
SUMMARY:Swamp Mosh
DESCRIPTION:Event details: https://tickets.oztix.com.au/outlet/event/06877de3-545d-4d36-b08a-a5e677e2e742
LOCATION:Amplifier Bar (Perth, WA)
END:VEVENT
END:VCALENDAR