BEGIN:VCALENDAR
VERSION:2.0
BEGIN:VEVENT
URL:https://tickets.oztix.com.au/outlet/event/0675d54c-ebaa-4fe3-b54c-1ad9c991ed85
DTSTART:20260501T090000Z
DTEND:20260501T090000Z
SUMMARY:Touch Sensitive
DESCRIPTION:Event details: https://tickets.oztix.com.au/outlet/event/0675d54c-ebaa-4fe3-b54c-1ad9c991ed85
LOCATION:BOMBIES at Harbord Hotel (Freshwater, NSW)
END:VEVENT
END:VCALENDAR