BEGIN:VCALENDAR
VERSION:2.0
BEGIN:VEVENT
URL:https://tickets.oztix.com.au/outlet/event/0623fe7a-8bea-47b3-8f3c-187ce8a478a2
DTSTART:20260605T113000Z
DTEND:20260605T113000Z
SUMMARY:DJ Vixon and the Divas Launch Party
DESCRIPTION:Event details: https://tickets.oztix.com.au/outlet/event/0623fe7a-8bea-47b3-8f3c-187ce8a478a2
LOCATION:Lynott's Lounge (Northbridge, WA)
END:VEVENT
END:VCALENDAR