BEGIN:VCALENDAR
VERSION:2.0
BEGIN:VEVENT
URL:https://tickets.oztix.com.au/outlet/event/0580c54c-c284-428b-9363-e69e5cfc5e2c
DTSTART:20260516T103000Z
DTEND:20260516T103000Z
SUMMARY:Kitschen Boy 'Mind Melt' Single Launch
DESCRIPTION:Event details: https://tickets.oztix.com.au/outlet/event/0580c54c-c284-428b-9363-e69e5cfc5e2c
LOCATION:The Tote - Band Room (Collingwood, VIC)
END:VEVENT
END:VCALENDAR