BEGIN:VCALENDAR
VERSION:2.0
BEGIN:VEVENT
URL:https://tickets.oztix.com.au/outlet/event/0569c8e8-17c8-4c40-b557-b1f79252a083
DTSTART:20260425T120000Z
DTEND:20260425T120000Z
SUMMARY:Bloom Pres. MAR VISTA [KR] & Trustee [AU]
DESCRIPTION:Event details: https://tickets.oztix.com.au/outlet/event/0569c8e8-17c8-4c40-b557-b1f79252a083
LOCATION:Bloom Bar & Lounge (Geelong, VIC)
END:VEVENT
END:VCALENDAR