BEGIN:VCALENDAR
VERSION:2.0
BEGIN:VEVENT
URL:https://tickets.oztix.com.au/outlet/event/0548d6ba-77b0-4e74-83c3-c3afbdc2b631
DTSTART:20260619T093000Z
DTEND:20260619T093000Z
SUMMARY:BEN LEE: On Tour Always
DESCRIPTION:Event details: https://tickets.oztix.com.au/outlet/event/0548d6ba-77b0-4e74-83c3-c3afbdc2b631
LOCATION:The Warehouse Bandroom  (Townsville, QLD)
END:VEVENT
END:VCALENDAR