BEGIN:VCALENDAR
VERSION:2.0
BEGIN:VEVENT
URL:https://tickets.oztix.com.au/outlet/event/049c16fa-5a19-4082-af7e-ce9fe8f6de4a
DTSTART:20260524T110000Z
DTEND:20260524T110000Z
SUMMARY:Robert Graham and The Landing
DESCRIPTION:Event details: https://tickets.oztix.com.au/outlet/event/049c16fa-5a19-4082-af7e-ce9fe8f6de4a
LOCATION:Clancy's Fish Pub | Fremantle (Fremantle, WA)
END:VEVENT
END:VCALENDAR