BEGIN:VCALENDAR
VERSION:2.0
BEGIN:VEVENT
URL:https://tickets.oztix.com.au/outlet/event/047757e4-09f8-4793-803d-a85d00580af2
DTSTART:20260918T100000Z
DTEND:20260918T100000Z
SUMMARY:THE DRONES
DESCRIPTION:Event details: https://tickets.oztix.com.au/outlet/event/047757e4-09f8-4793-803d-a85d00580af2
LOCATION:The Hamilton Station Hotel (Islington, NSW)
END:VEVENT
END:VCALENDAR