BEGIN:VCALENDAR
VERSION:2.0
BEGIN:VEVENT
URL:https://tickets.oztix.com.au/outlet/event/04078131-3feb-48a8-913c-4c1be5d11db9
DTSTART:20260425T090000Z
DTEND:20260425T090000Z
SUMMARY:HOT DUB TIME MACHINE x McGuires
DESCRIPTION:Event details: https://tickets.oztix.com.au/outlet/event/04078131-3feb-48a8-913c-4c1be5d11db9
LOCATION:McGuires Hotel (Mackay, QLD)
END:VEVENT
END:VCALENDAR