BEGIN:VCALENDAR
VERSION:2.0
BEGIN:VEVENT
URL:https://tickets.oztix.com.au/outlet/event/03a72c5f-eaa2-4ed6-91fe-faf842a0faca
DTSTART:20260719T083000Z
DTEND:20260719T083000Z
SUMMARY:Ryan Martin John
DESCRIPTION:Event details: https://tickets.oztix.com.au/outlet/event/03a72c5f-eaa2-4ed6-91fe-faf842a0faca
LOCATION:The Junk Bar (New Farm, QLD)
END:VEVENT
END:VCALENDAR