BEGIN:VCALENDAR
VERSION:2.0
BEGIN:VEVENT
URL:https://tickets.oztix.com.au/outlet/event/02570e6a-6d80-4e23-86ad-faa2f598de19
DTSTART:20260703T090000Z
DTEND:20260703T090000Z
SUMMARY:Amy-Lee’s Birthday Bash!
DESCRIPTION:Event details: https://tickets.oztix.com.au/outlet/event/02570e6a-6d80-4e23-86ad-faa2f598de19
LOCATION:Tomcat (Fortitude Valley, QLD)
END:VEVENT
END:VCALENDAR