BEGIN:VCALENDAR
VERSION:2.0
BEGIN:VEVENT
URL:https://tickets.oztix.com.au/outlet/event/0247af95-e5db-4082-9bcb-a8a79dd67e73
DTSTART:20260424T112000Z
DTEND:20260424T112000Z
SUMMARY:Showgirls (R 18+) PRESENTED IN 35MM FILM
DESCRIPTION:Event details: https://tickets.oztix.com.au/outlet/event/0247af95-e5db-4082-9bcb-a8a79dd67e73
LOCATION:The Revival House Perth (Como, WA)
END:VEVENT
END:VCALENDAR