BEGIN:VCALENDAR
VERSION:2.0
BEGIN:VEVENT
URL:https://tickets.oztix.com.au/outlet/event/007d9836-a5d8-4fcf-8d04-0289116e153f
DTSTART:20260626T093000Z
DTEND:20260626T093000Z
SUMMARY:Rose Tattoo
DESCRIPTION:Event details: https://tickets.oztix.com.au/outlet/event/007d9836-a5d8-4fcf-8d04-0289116e153f
LOCATION:The Warehouse Bandroom  (Townsville, QLD)
END:VEVENT
END:VCALENDAR