BEGIN:VCALENDAR
VERSION:2.0
BEGIN:VEVENT
URL:https://tickets.oztix.com.au/outlet/event/0044ecc5-1524-42f4-95b0-38cbd8524448
DTSTART:20260719T080000Z
DTEND:20260719T080000Z
SUMMARY:Jon Stevens - The Noiseworks & INXS Collection Tour '26
DESCRIPTION:Event details: https://tickets.oztix.com.au/outlet/event/0044ecc5-1524-42f4-95b0-38cbd8524448
LOCATION:Jetty Beach House (Coffs Harbour, NSW)
END:VEVENT
END:VCALENDAR